BEGIN:VCALENDAR
VERSION:2.0
PRODID:SchoolNow
CALSCALE:GREGORIAN
BEGIN:VEVENT
UID:362c56f8-3ce2-11f1-ad09-0a58a9feac02
DTSTAMP:20260420T175609Z
SUMMARY:Industry Match Day
LOCATION:RPCC Gonzales Campus
URL;VALUE=URI:https://www.rpcc.edu/calendar/9007467/industry-match-day
DTSTART:20260430T133000Z
DTEND:20260430T190000Z
ATTACH;FILENAME=Industry Match Day.png;FMTTYPE=image/png:https://campussuit
 e-storage.s3.amazonaws.com/prod/1559066/3b154aa2-a10c-11eb-a551-0a8cf5ce3b
 3d/3090952/1a9036b2-3ce2-11f1-8d77-0a58a9feac02/file/Industry Match Day.pn
 g
END:VEVENT
END:VCALENDAR
