BEGIN:VCALENDAR
VERSION:2.0
PRODID:SchoolNow
CALSCALE:GREGORIAN
BEGIN:VEVENT
UID:31756c9c-198f-11f1-a72d-0a58a9feac02
DTSTAMP:20260306T190342Z
SUMMARY:Global Food Fair (Reserve Campus)
LOCATION:RPCC Reserve Campus
URL;VALUE=URI:https://www.rpcc.edu/calendar/8896940/global-food-fair-reserv
 e-campus
DTSTART:20260402T153000Z
DTEND:20260402T170000Z
END:VEVENT
END:VCALENDAR
