BEGIN:VCALENDAR
VERSION:2.0
PRODID:SchoolNow
CALSCALE:GREGORIAN
BEGIN:VEVENT
UID:34a1961a-1364-11f1-87bf-0261e2fd6d85
DTSTAMP:20260226T224052Z
SUMMARY:March Movies: Soul on Fire
LOCATION:Gonzales Campus - BASF Room
URL;VALUE=URI:https://www.rpcc.edu/calendar/8874451/march-movies-soul-on-fi
 re
DTSTART:20260310T190000Z
DTEND:20260310T203000Z
END:VEVENT
END:VCALENDAR
