BEGIN:VCALENDAR
VERSION:2.0
PRODID:SchoolNow
CALSCALE:GREGORIAN
BEGIN:VEVENT
UID:7d5a1036-1363-11f1-9546-0a58a9feac02
DTSTAMP:20260330T171138Z
SUMMARY:Global Food Fair (Westside Campus)
LOCATION:RPCC Westside Campus
URL;VALUE=URI:https://www.rpcc.edu/calendar/8874449/multicultural-food-fair
 -st-charles-campus-clone
DTSTART:20260401T150000Z
DTEND:20260401T163000Z
END:VEVENT
END:VCALENDAR
