BEGIN:VCALENDAR
VERSION:2.0
PRODID:SchoolNow
CALSCALE:GREGORIAN
BEGIN:VEVENT
UID:f64414c0-1362-11f1-8751-0a58a9feac02
DTSTAMP:20260226T223826Z
SUMMARY:Global Food Fair (St. Charles Campus)
LOCATION:RPCC St Charles Campus
URL;VALUE=URI:https://www.rpcc.edu/calendar/8874448/multicultural-food-fair
 -st-charles-campus
DTSTART:20260331T160000Z
DTEND:20260331T170000Z
END:VEVENT
END:VCALENDAR
