BEGIN:VCALENDAR
VERSION:2.0
PRODID:SchoolNow
CALSCALE:GREGORIAN
BEGIN:VEVENT
UID:5dd6b70a-b34b-11f0-aaa4-0a58a9feac02
DTSTAMP:20260305T220311Z
SUMMARY:2026 RPCC Commencement Ceremony
URL;VALUE=URI:https://www.rpcc.edu/calendar/8754196/2026-rpcc-commencement-
 ceremony
DTSTART:20260527T150000Z
DTEND:20260527T170000Z
END:VEVENT
END:VCALENDAR
