BEGIN:VCALENDAR
VERSION:2.0
PRODID:SchoolNow
CALSCALE:GREGORIAN
BEGIN:VEVENT
UID:e2600934-a2cc-11f0-90e9-0a58a9feac02
DTSTAMP:20251006T155530Z
SUMMARY:Breakfast & Blockbusters
LOCATION:Gonzales Campus
URL;VALUE=URI:https://www.rpcc.edu/calendar/8699585/breakfast-blockbusters
DTSTART:20251022T143000Z
DTEND:20251022T183000Z
END:VEVENT
END:VCALENDAR
