BEGIN:VCALENDAR
VERSION:2.0
PRODID:SchoolNow
CALSCALE:GREGORIAN
BEGIN:VEVENT
UID:87227378-9ae2-11f0-9835-0a58a9feac02
DTSTAMP:20250926T141016Z
SUMMARY:Trio End of the Semester Mixer
LOCATION:Gonzales Campus
URL;VALUE=URI:https://www.rpcc.edu/calendar/8666954/trio-end-of-the-semeste
 r-mixer
DTSTART:20251118T170000Z
DTEND:20251118T183000Z
END:VEVENT
END:VCALENDAR
