BEGIN:VCALENDAR
VERSION:2.0
PRODID:SchoolNow
CALSCALE:GREGORIAN
BEGIN:VEVENT
UID:5b6fdbd0-9ae2-11f0-92e9-0a58a9feac02
DTSTAMP:20250926T140903Z
SUMMARY:Trio Financial Literacy Workshop
LOCATION:Gonzales Campus
URL;VALUE=URI:https://www.rpcc.edu/calendar/8666915/trio-financial-literacy
 -workshop
DTSTART:20251105T153000Z
DTEND:20251105T170000Z
END:VEVENT
END:VCALENDAR
