BEGIN:VCALENDAR
VERSION:2.0
PRODID:SchoolNow
CALSCALE:GREGORIAN
BEGIN:VEVENT
UID:36b65120-9ae2-11f0-8902-0affdb44ff1b
DTSTAMP:20250926T140801Z
SUMMARY:Trio Popcorn Tuesday
LOCATION:Gonzales Campus
URL;VALUE=URI:https://www.rpcc.edu/calendar/8666914/trio-popcorn-tuesday
DTSTART:20251104T173000Z
DTEND:20251104T183000Z
END:VEVENT
END:VCALENDAR
