BEGIN:VCALENDAR
VERSION:2.0
PRODID:SchoolNow
CALSCALE:GREGORIAN
BEGIN:VEVENT
UID:1111dbc4-9ae2-11f0-b95d-0e84c27ea6fb
DTSTAMP:20250926T140658Z
SUMMARY:Trio Monday Mixer
LOCATION:Gonzales Campus
URL;VALUE=URI:https://www.rpcc.edu/calendar/8666913/trio-monday-mixer
DTSTART:20251020T160000Z
DTEND:20251020T170000Z
END:VEVENT
END:VCALENDAR
