BEGIN:VCALENDAR
VERSION:2.0
PRODID:SchoolNow
CALSCALE:GREGORIAN
BEGIN:VEVENT
UID:ec2a1538-9ae1-11f0-8043-0a58a9feac02
DTSTAMP:20250926T140556Z
SUMMARY:Trio Popcorn Tuesday
LOCATION:Gonzales Campus
URL;VALUE=URI:https://www.rpcc.edu/calendar/8666912/trio-popcorn-tuesday
DTSTART:20251007T163000Z
DTEND:20251007T173000Z
END:VEVENT
END:VCALENDAR
