BEGIN:VCALENDAR
VERSION:2.0
PRODID:SchoolNow
CALSCALE:GREGORIAN
BEGIN:VEVENT
UID:cee83a20-8f1c-11f0-97fc-02f028a35363
DTSTAMP:20250911T143714Z
SUMMARY:Thanksgiving Meal
LOCATION:Gonzales Campus
URL;VALUE=URI:https://www.rpcc.edu/calendar/8608927/thanksgiving-meal
DTSTART:20251119T223000Z
DTEND:20251119T233000Z
END:VEVENT
END:VCALENDAR
