BEGIN:VCALENDAR
VERSION:2.0
PRODID:SchoolNow
CALSCALE:GREGORIAN
BEGIN:VEVENT
UID:982b590e-8f1c-11f0-9a3e-02d2225c000b
DTSTAMP:20250911T143542Z
SUMMARY:Thanksgiving Meal
LOCATION:Westside Campus
URL;VALUE=URI:https://www.rpcc.edu/calendar/8608926/thanksgiving-meal
DTSTART:20251113T170000Z
DTEND:20251113T180000Z
END:VEVENT
END:VCALENDAR
