BEGIN:VCALENDAR
VERSION:2.0
PRODID:SchoolNow
CALSCALE:GREGORIAN
BEGIN:VEVENT
UID:61c939da-8f1c-11f0-883a-0a58a9feac02
DTSTAMP:20251003T143537Z
SUMMARY:Fall Fest (Gonzales Campus)
LOCATION:Gonzales Campus
URL;VALUE=URI:https://www.rpcc.edu/calendar/8608925/fall-fest
DTSTART:20251112T160000Z
DTEND:20251112T190000Z
END:VEVENT
END:VCALENDAR
