BEGIN:VCALENDAR
VERSION:2.0
PRODID:SchoolNow
CALSCALE:GREGORIAN
BEGIN:VEVENT
UID:29528f16-8f1c-11f0-a80c-0a58a9feac02
DTSTAMP:20250911T143236Z
SUMMARY:Thanksgiving Meals
LOCATION:St. Charles Campus
URL;VALUE=URI:https://www.rpcc.edu/calendar/8608924/thanksgiving-meals
DTSTART:20251006T170000Z
DTEND:20251006T180000Z
END:VEVENT
END:VCALENDAR
