BEGIN:VCALENDAR
VERSION:2.0
PRODID:SchoolNow
CALSCALE:GREGORIAN
BEGIN:VEVENT
UID:def93776-8f1b-11f0-8da5-0a58a9feac02
DTSTAMP:20251003T143517Z
SUMMARY:Fall Fest (Reserve Campus)
LOCATION:Reserve Campus
URL;VALUE=URI:https://www.rpcc.edu/calendar/8608923/fall-fest
DTSTART:20251025T200000Z
DTEND:20251025T230000Z
END:VEVENT
END:VCALENDAR
