BEGIN:VCALENDAR
VERSION:2.0
PRODID:SchoolNow
CALSCALE:GREGORIAN
BEGIN:VEVENT
UID:a33a7bc2-8e77-11f0-8429-0a58a9feac02
DTSTAMP:20250910T185453Z
SUMMARY:Quad Games
LOCATION:Gonzales Campus
URL;VALUE=URI:https://www.rpcc.edu/calendar/8606345/quad-games
DTSTART:20250924T153000Z
DTEND:20250924T173000Z
END:VEVENT
END:VCALENDAR
