BEGIN:VCALENDAR
VERSION:2.0
PRODID:SchoolNow
CALSCALE:GREGORIAN
BEGIN:VEVENT
UID:897f6764-8a7c-11f0-9928-0a58a9feac02
DTSTAMP:20250905T171953Z
SUMMARY:MFG Day (Reserve Campus)
LOCATION:181 Regala Park Rd\, Reserve\, LA 70084
URL;VALUE=URI:https://www.rpcc.edu/calendar/8584843/mfg-day-reserve-campus
DTSTART:20251024T140000Z
DTEND:20251024T190000Z
END:VEVENT
END:VCALENDAR
