BEGIN:VCALENDAR
VERSION:2.0
PRODID:SchoolNow
CALSCALE:GREGORIAN
BEGIN:VEVENT
UID:3d20ee48-7c48-11f0-8298-02efef4a7877
DTSTAMP:20250818T153015Z
SUMMARY:MFG Day (Gonzales Campus)
LOCATION:925 W Edenborne Pkwy\, Gonzales\, LA 70737
URL;VALUE=URI:https://www.rpcc.edu/calendar/8518615/mfg-day-gonzales-campus
DTSTART:20251017T140000Z
DTEND:20251017T190000Z
END:VEVENT
END:VCALENDAR
