BEGIN:VCALENDAR
VERSION:2.0
PRODID:SchoolNow
CALSCALE:GREGORIAN
BEGIN:VEVENT
UID:caee4d66-7305-11f0-a5ad-0a58a9feac02
DTSTAMP:20250806T204156Z
SUMMARY:RPCC Foundation Scholarship Signing Day Banquet
URL;VALUE=URI:https://www.rpcc.edu/calendar/8477232/rpcc-foundation-scholar
 ship-signing-day-banquet
DTSTART:20250812T223000Z
DTEND:20250813T013000Z
END:VEVENT
END:VCALENDAR
