BEGIN:VCALENDAR
VERSION:2.0
PRODID:SchoolNow
CALSCALE:GREGORIAN
BEGIN:VEVENT
UID:e2842d9c-6897-11f0-89f7-0eeef5b311df
DTSTAMP:20250724T140959Z
SUMMARY:Adult Education Evening Orientation (November 11 & 13)
URL;VALUE=URI:https://www.rpcc.edu/calendar/8442816/adult-education-evening
 -orientation-november-11-13
DTSTART:20251111T230000Z
DTEND:20251112T020000Z
END:VEVENT
END:VCALENDAR
