BEGIN:VCALENDAR
VERSION:2.0
PRODID:SchoolNow
CALSCALE:GREGORIAN
BEGIN:VEVENT
UID:919714bc-6897-11f0-8e9f-0a58a9feac02
DTSTAMP:20250724T140744Z
SUMMARY:Adult Education Daytime Orientation (November 11 & 13)
URL;VALUE=URI:https://www.rpcc.edu/calendar/8442815/adult-education-daytime
 -orientation-november-11-13
DTSTART:20251111T150000Z
DTEND:20251111T200000Z
END:VEVENT
END:VCALENDAR
