BEGIN:VCALENDAR
VERSION:2.0
PRODID:SchoolNow
CALSCALE:GREGORIAN
BEGIN:VEVENT
UID:9fb2998a-6893-11f0-a1d1-0a58a9feac02
DTSTAMP:20250724T133929Z
SUMMARY:Adult Education Evening Orientation (October 28 & 30)
URL;VALUE=URI:https://www.rpcc.edu/calendar/8442727/adult-education-evening
 -orientation-october-28-30
DTSTART:20251028T220000Z
DTEND:20251029T010000Z
END:VEVENT
END:VCALENDAR
