BEGIN:VCALENDAR
VERSION:2.0
PRODID:SchoolNow
CALSCALE:GREGORIAN
BEGIN:VEVENT
UID:27723ef8-6893-11f0-9088-0a58a9feac02
DTSTAMP:20250724T133607Z
SUMMARY:Adult Education Daytime Orientation (October 28 & 30)
URL;VALUE=URI:https://www.rpcc.edu/calendar/8442726/adult-education-daytime
 -orientation-october-28-30
DTSTART:20251028T140000Z
DTEND:20251028T190000Z
END:VEVENT
END:VCALENDAR
