BEGIN:VCALENDAR
VERSION:2.0
PRODID:SchoolNow
CALSCALE:GREGORIAN
BEGIN:VEVENT
UID:e27ae7aa-6892-11f0-895d-0afff061a507
DTSTAMP:20250724T133412Z
SUMMARY:Adult Education Evening Orientation (October 14 & 16)
URL;VALUE=URI:https://www.rpcc.edu/calendar/8442725/adult-education-evening
 -orientation-october-14-16
DTSTART:20251014T220000Z
DTEND:20251015T010000Z
END:VEVENT
END:VCALENDAR
