BEGIN:VCALENDAR
VERSION:2.0
PRODID:SchoolNow
CALSCALE:GREGORIAN
BEGIN:VEVENT
UID:91835684-6892-11f0-a890-0a58a9feac02
DTSTAMP:20250724T133156Z
SUMMARY:Adult Education Daytime Orientation (October 14 & 16)
URL;VALUE=URI:https://www.rpcc.edu/calendar/8442724/adult-education-daytime
 -orientation-october-14-16
DTSTART:20251014T140000Z
DTEND:20251014T190000Z
END:VEVENT
END:VCALENDAR
