BEGIN:VCALENDAR
VERSION:2.0
PRODID:SchoolNow
CALSCALE:GREGORIAN
BEGIN:VEVENT
UID:4218e890-5747-11f0-9d07-0e2994befe05
DTSTAMP:20250716T173119Z
SUMMARY:Adult Education Evening Orientation (September 30 & October 2)
URL;VALUE=URI:https://www.rpcc.edu/calendar/8377454/adult-education-evening
 -orientation-september-23-25
DTSTART:20250930T220000Z
DTEND:20251001T010000Z
END:VEVENT
END:VCALENDAR
