BEGIN:VCALENDAR
VERSION:2.0
PRODID:SchoolNow
CALSCALE:GREGORIAN
BEGIN:VEVENT
UID:fb3174b0-5746-11f0-b424-026e14ecddaf
DTSTAMP:20250707T130500Z
SUMMARY:Adult Education Daytime Orientation (September 30 & October 2)
URL;VALUE=URI:https://www.rpcc.edu/calendar/8377453/adult-education-daytime
 -orientation-september-23-25
DTSTART:20250930T140000Z
DTEND:20250930T190000Z
END:VEVENT
END:VCALENDAR
