BEGIN:VCALENDAR
VERSION:2.0
PRODID:SchoolNow
CALSCALE:GREGORIAN
BEGIN:VEVENT
UID:cf5f1ca2-5746-11f0-a520-0a58a9feac02
DTSTAMP:20250707T130352Z
SUMMARY:Adult Education Evening Orientation (September 16 & 18)
URL;VALUE=URI:https://www.rpcc.edu/calendar/8377452/adult-education-evening
 -orientation-september-9-11
DTSTART:20250916T220000Z
DTEND:20250917T010000Z
END:VEVENT
END:VCALENDAR
