BEGIN:VCALENDAR
VERSION:2.0
PRODID:SchoolNow
CALSCALE:GREGORIAN
BEGIN:VEVENT
UID:6518cb54-5746-11f0-864b-0a58a9feac02
DTSTAMP:20250702T131350Z
SUMMARY:Adult Education Evening Orientation (August 26 & 28)
URL;VALUE=URI:https://www.rpcc.edu/calendar/8377450/adult-education-evening
 -orientation-august-26-28
DTSTART:20250826T220000Z
DTEND:20250827T010000Z
END:VEVENT
END:VCALENDAR
