BEGIN:VCALENDAR
VERSION:2.0
PRODID:SchoolNow
CALSCALE:GREGORIAN
BEGIN:VEVENT
UID:1787d1b4-5746-11f0-96a9-0a58a9feac02
DTSTAMP:20250702T131140Z
SUMMARY:Adult Education Daytime Orientation (August 26 & 28)
URL;VALUE=URI:https://www.rpcc.edu/calendar/8377449/adult-education-daytime
 -orientation-august-26-28
DTSTART:20250826T140000Z
DTEND:20250826T190000Z
END:VEVENT
END:VCALENDAR
