BEGIN:VCALENDAR
VERSION:2.0
PRODID:SchoolNow
CALSCALE:GREGORIAN
BEGIN:VEVENT
UID:d526c910-5745-11f0-ab63-0a58a9feac02
DTSTAMP:20250702T130948Z
SUMMARY:Adult Education Evening Orientation (August 12 & 14)
URL;VALUE=URI:https://www.rpcc.edu/calendar/8377448/adult-education-evening
 -orientation-august-12-14
DTSTART:20250812T220000Z
DTEND:20250813T010000Z
END:VEVENT
END:VCALENDAR
