BEGIN:VCALENDAR
VERSION:2.0
PRODID:SchoolNow
CALSCALE:GREGORIAN
BEGIN:VEVENT
UID:3df6b550-5745-11f0-a831-0affc326c55b
DTSTAMP:20250702T130535Z
SUMMARY:Adult Education Daytime Orientation (August 12 & 14)
URL;VALUE=URI:https://www.rpcc.edu/calendar/8377447/adult-education-daytime
 -orientation-august-12-14
DTSTART:20250812T140000Z
DTEND:20250812T190000Z
END:VEVENT
END:VCALENDAR
