BEGIN:VCALENDAR
VERSION:2.0
PRODID:SchoolNow
CALSCALE:GREGORIAN
BEGIN:VEVENT
UID:70b9feb0-5741-11f0-b9e1-0a58a9feac02
DTSTAMP:20250702T132104Z
SUMMARY:Adult Education Evening Orientation (July 22 & 24)
URL;VALUE=URI:https://www.rpcc.edu/calendar/8377445/adult-education-evening
 -orientation-july-22-24
DTSTART:20250722T220000Z
DTEND:20250723T010000Z
END:VEVENT
END:VCALENDAR
