BEGIN:VCALENDAR
VERSION:2.0
PRODID:SchoolNow
CALSCALE:GREGORIAN
BEGIN:VEVENT
UID:23eed790-5741-11f0-99b6-0a58a9feac02
DTSTAMP:20250702T123848Z
SUMMARY:Adult Education Daytime Orientation (July 22 & 24)
URL;VALUE=URI:https://www.rpcc.edu/calendar/8377444/adult-education-daytime
 -orientation-july-22-24
DTSTART:20250722T140000Z
DTEND:20250722T190000Z
END:VEVENT
END:VCALENDAR
