BEGIN:VCALENDAR
VERSION:2.0
PRODID:SchoolNow
CALSCALE:GREGORIAN
BEGIN:VEVENT
UID:511709ce-5690-11f0-9b1a-0a58a9feac02
DTSTAMP:20250701T153028Z
SUMMARY:Adult Education Evening Orientation (July 8 & 10)
URL;VALUE=URI:https://www.rpcc.edu/calendar/8373725/adult-education-evening
 -orientation-july-8-10
DTSTART:20250708T220000Z
DTEND:20250709T010000Z
END:VEVENT
END:VCALENDAR
