BEGIN:VCALENDAR
VERSION:2.0
PRODID:SchoolNow
CALSCALE:GREGORIAN
BEGIN:VEVENT
UID:bb50cd5e-568e-11f0-a07b-0a58a9feac02
DTSTAMP:20250701T153157Z
SUMMARY:Adult Education Daytime Orientation (July 8 & 10)
URL;VALUE=URI:https://www.rpcc.edu/calendar/8373720/adult-education-orienta
 tion-july-8-10
DTSTART:20250708T140000Z
DTEND:20250708T190000Z
END:VEVENT
END:VCALENDAR
