BEGIN:VCALENDAR
VERSION:2.0
PRODID:SchoolNow
CALSCALE:GREGORIAN
BEGIN:VEVENT
UID:000e51da-4def-11f0-8544-02de2f7b37e7
DTSTAMP:20250620T155534Z
SUMMARY:R.O.U. 365! New Student Orientation\, Reserve Campus
LOCATION:181 Regala Park Rd\, Reserve\, LA 70084
URL;VALUE=URI:https://www.rpcc.edu/calendar/8333132/r-o-u-365-new-student-o
 rientation-reserve-campus
DTSTART:20250715T160000Z
DTEND:20250715T180000Z
END:VEVENT
END:VCALENDAR
