BEGIN:VCALENDAR
VERSION:2.0
PRODID:SchoolNow
CALSCALE:GREGORIAN
BEGIN:VEVENT
UID:e07b427e-4dee-11f0-8811-0a58a9feac02
DTSTAMP:20250620T155441Z
SUMMARY:R.O.U. 365! New Student Orientation\, Reserve Campus
LOCATION:181 Regala Park Rd\, Reserve\, LA 70084
URL;VALUE=URI:https://www.rpcc.edu/calendar/8333131/r-o-u-365-new-student-o
 rientation-reserve-campus
DTSTART:20250807T160000Z
DTEND:20250807T180000Z
END:VEVENT
END:VCALENDAR
