BEGIN:VCALENDAR
VERSION:2.0
PRODID:SchoolNow
CALSCALE:GREGORIAN
BEGIN:VEVENT
UID:b9c5ad18-4dee-11f0-91db-0a58a9feac02
DTSTAMP:20250620T155336Z
SUMMARY:R.O.U. 365! New Student Orientation\, St. Charles Campus
LOCATION:13145 HWY 90 Boutte\, LA 70039
URL;VALUE=URI:https://www.rpcc.edu/calendar/8333130/r-o-u-365-new-student-o
 rientation-st-charles-campus
DTSTART:20250722T190000Z
DTEND:20250722T210000Z
END:VEVENT
END:VCALENDAR
