BEGIN:VCALENDAR
VERSION:2.0
PRODID:SchoolNow
CALSCALE:GREGORIAN
BEGIN:VEVENT
UID:1027f298-4dee-11f0-8c5f-022fd56b161f
DTSTAMP:20250620T154851Z
SUMMARY:R.O.U. 365! New Student Orientation\, Gonzales Campus
LOCATION:925 W Edenborne Pkwy\, Gonzales\, LA 70737
URL;VALUE=URI:https://www.rpcc.edu/calendar/8333128/r-o-u-365-new-student-o
 rientation-gonzales-campus
DTSTART:20250730T180000Z
DTEND:20250730T200000Z
END:VEVENT
END:VCALENDAR
