BEGIN:VCALENDAR
VERSION:2.0
PRODID:SchoolNow
CALSCALE:GREGORIAN
BEGIN:VEVENT
UID:f7364302-4ded-11f0-9ca7-0a58a9feac02
DTSTAMP:20250620T154809Z
SUMMARY:R.O.U. 365! New Student Orientation\, Gonzales Campus
LOCATION:925 W Edenborne Pkwy\, Gonzales\, LA 70737
URL;VALUE=URI:https://www.rpcc.edu/calendar/8333125/r-o-u-365-new-student-o
 rientation-gonzales-campus
DTSTART:20250723T180000Z
DTEND:20250723T200000Z
END:VEVENT
END:VCALENDAR
