BEGIN:VCALENDAR
VERSION:2.0
PRODID:SchoolNow
CALSCALE:GREGORIAN
BEGIN:VEVENT
UID:d2c1c6a4-4ded-11f0-8ef3-0ef924d70cdd
DTSTAMP:20250620T154708Z
SUMMARY:R.O.U. 365! New Student Orientation\, Gonzales Campus
LOCATION:925 W Edenborne Pkwy\, Gonzales\, LA 70737
URL;VALUE=URI:https://www.rpcc.edu/calendar/8333123/r-o-u-365-new-student-o
 rientation-gonzales-campus
DTSTART:20250716T180000Z
DTEND:20250716T200000Z
END:VEVENT
END:VCALENDAR
