BEGIN:VCALENDAR
VERSION:2.0
PRODID:SchoolNow
CALSCALE:GREGORIAN
BEGIN:VEVENT
UID:3454f04a-4ded-11f0-a6c6-0a58a9feac02
DTSTAMP:20250620T162029Z
SUMMARY:R.O.U. 365! New Student Orientation\, Gonzales Campus
LOCATION:925 W Edenborne Pkwy\, Gonzales\, LA 70737
URL;VALUE=URI:https://www.rpcc.edu/calendar/8333121/r-o-u-365-new-student-o
 rientation-gonzales-campus
DTSTART:20250625T180000Z
DTEND:20250625T200000Z
END:VEVENT
END:VCALENDAR
