BEGIN:VCALENDAR
VERSION:2.0
PRODID:SchoolNow
CALSCALE:GREGORIAN
BEGIN:VEVENT
UID:715db0e6-4887-11f0-8b19-02de2f7b37e7
DTSTAMP:20250620T154946Z
SUMMARY:RPCC Connect
LOCATION:925 W. Edenborne Pkwy Gonzales\, LA 70737
URL;VALUE=URI:https://www.rpcc.edu/calendar/8298642/rpcc-connect
DTSTART:20250809T150000Z
DTEND:20250809T173000Z
ATTACH;FILENAME=Website Header Scroller Images (2) (1).png;FMTTYPE=image/pn
 g:https://campussuite-storage.s3.amazonaws.com/prod/1559066/3b154aa2-a10c-
 11eb-a551-0a8cf5ce3b3d/2969092/62e7ef5e-4887-11f0-8048-0a58a9feac02/file/W
 ebsite Header Scroller Images (2) (1).png
END:VEVENT
END:VCALENDAR
