BEGIN:VCALENDAR
VERSION:2.0
PRODID:SchoolNow
CALSCALE:GREGORIAN
BEGIN:VEVENT
UID:c683e198-319f-11f0-aa94-0a58a9feac02
DTSTAMP:20250515T151754Z
SUMMARY:RPCC Commencement and Career Celebration
LOCATION:Lamar Dixon Expo Center - Trade Mart Building
URL;VALUE=URI:https://www.rpcc.edu/calendar/8140315/rpcc-commencement-and-c
 areer-celebration
DTSTART:20250520T170000Z
DTEND:20250520T190000Z
END:VEVENT
END:VCALENDAR
