BEGIN:VCALENDAR
VERSION:2.0
PRODID:SchoolNow
CALSCALE:GREGORIAN
BEGIN:VEVENT
UID:8573ed60-319f-11f0-ace4-0e36b02d9e09
DTSTAMP:20250515T151605Z
SUMMARY:RPCC 2025 Commencement Ceremony
LOCATION:Lamar Dixon Expo Center - REV Center
URL;VALUE=URI:https://www.rpcc.edu/calendar/8140314/rpcc-2025-commencement-
 ceremony
DTSTART:20250520T150000Z
DTEND:20250520T170000Z
END:VEVENT
END:VCALENDAR
