BEGIN:VCALENDAR
VERSION:2.0
PRODID:SchoolNow
CALSCALE:GREGORIAN
BEGIN:VEVENT
UID:25c634fe-319f-11f0-8bdc-0affc6c85c03
DTSTAMP:20250515T151325Z
SUMMARY:CNA Training Info Session (GONZALES)
LOCATION:RPCC Gonzales Campus
URL;VALUE=URI:https://www.rpcc.edu/calendar/8140312/cna-training-info-sessi
 on-westside-clone
DTSTART:20250612T223000Z
DTEND:20250612T233000Z
ATTACH;FILENAME=CNA Info Session Gonz.pdf;FMTTYPE=application/pdf:https://c
 ampussuite-storage.s3.amazonaws.com/prod/1559066/3b154aa2-a10c-11eb-a551-0
 a8cf5ce3b3d/2954423/10fde044-319f-11f0-b12e-0e0034aace2f/file/CNA Info Ses
 sion Gonz.pdf
END:VEVENT
END:VCALENDAR
