BEGIN:VCALENDAR
VERSION:2.0
PRODID:SchoolNow
CALSCALE:GREGORIAN
BEGIN:VEVENT
UID:ef942c1a-319e-11f0-8c77-0a58a9feac02
DTSTAMP:20250515T151154Z
SUMMARY:CNA Training Info Session (WESTSIDE)
LOCATION:RPCC Westside Campus
URL;VALUE=URI:https://www.rpcc.edu/calendar/8140311/cna-training-info-sessi
 on-westside
DTSTART:20250522T223000Z
DTEND:20250522T233000Z
ATTACH;FILENAME=CNA Westside Info Session FLyer.pdf;FMTTYPE=application/pdf
 :https://campussuite-storage.s3.amazonaws.com/prod/1559066/3b154aa2-a10c-1
 1eb-a551-0a8cf5ce3b3d/2954420/b3ae3b3c-319e-11f0-af27-0affc55b7815/file/CN
 A Westside Info Session FLyer.pdf
END:VEVENT
END:VCALENDAR
